BEGIN:VCALENDAR
VERSION:2.0
PRODID:-//Embodywise - ECPv6.15.20//NONSGML v1.0//EN
CALSCALE:GREGORIAN
METHOD:PUBLISH
X-WR-CALNAME:Embodywise
X-ORIGINAL-URL:https://embodywise.com
X-WR-CALDESC:Events for Embodywise
REFRESH-INTERVAL;VALUE=DURATION:PT1H
X-Robots-Tag:noindex
X-PUBLISHED-TTL:PT1H
BEGIN:VTIMEZONE
TZID:America/Los_Angeles
BEGIN:DAYLIGHT
TZOFFSETFROM:-0800
TZOFFSETTO:-0700
TZNAME:PDT
DTSTART:20250309T100000
END:DAYLIGHT
BEGIN:STANDARD
TZOFFSETFROM:-0700
TZOFFSETTO:-0800
TZNAME:PST
DTSTART:20251102T090000
END:STANDARD
BEGIN:DAYLIGHT
TZOFFSETFROM:-0800
TZOFFSETTO:-0700
TZNAME:PDT
DTSTART:20260308T100000
END:DAYLIGHT
BEGIN:STANDARD
TZOFFSETFROM:-0700
TZOFFSETTO:-0800
TZNAME:PST
DTSTART:20261101T090000
END:STANDARD
BEGIN:DAYLIGHT
TZOFFSETFROM:-0800
TZOFFSETTO:-0700
TZNAME:PDT
DTSTART:20270314T100000
END:DAYLIGHT
BEGIN:STANDARD
TZOFFSETFROM:-0700
TZOFFSETTO:-0800
TZNAME:PST
DTSTART:20271107T090000
END:STANDARD
END:VTIMEZONE
BEGIN:VEVENT
DTSTART;TZID=America/Los_Angeles:20260724T100000
DTEND;TZID=America/Los_Angeles:20260724T163000
DTSTAMP:20260425T121311
CREATED:20250409T184122Z
LAST-MODIFIED:20260425T015358Z
UID:10000236-1784887200-1784910600@embodywise.com
SUMMARY:Hakomi Intro Workshop: A Mindful Path to Indigenous and Global Majority Healing
DESCRIPTION:  \n\nIn these turbulent times\, the systems of oppression are literally pressing down on our clients in increasingly harmful ways.  As clinicians\, we have a powerful opportunity—and responsibility—to be a part of our collective healing. By showing up with cultural awareness\, presence\, and authenticity\, we create the conditions for real transformation. \nCome together to explore these questions and more! \n\nHow do we\, as Indigenous people\, members of the Global Majority\, or committed Allies\, meet suffering with compassion and skill?\nHow do we support the authentic unfolding of our BIPOC\, Queer\, and other oppressed populations/clients\, in order to increase their felt sense of belonging? \nHow do we\, as either Indigenous\, Global Majority or Allies\, support all who are suffering?\n\nThrough the lens of 3 particularly relevant principles of Hakomi\, we will “study” our own experiences\, translate this into practical skills to support others unfolding\, coupled with an opportunity to witness a “live” demonstration of the Hakomi Method! \nJoin us for this experiential introduction to Hakomi. You’ll learn about the foundations of our 7-month training and walk away with tools you can begin using right away to foster connection\, safety\, and depth in your clinical work. \nThis course consists of two online learning segments: \n\n1.5 hours of self-paced learning (brief video talk\, Hakomi\, demo session\, articles and handouts) that you’ll complete at your own pace in the two-and-a-half weeks prior to our live Zoom class\n6.5 hours (w/ two 15-minute breaks) of online instructor-led classroom training via-Zoom\, with plenty of opportunities of experiential learning\, including breakout groups where you can practice new skills in a gentle and safe environment and receive immediate guidance and feedback from your instructor.\n\nWhat you will learn: \n\nDescribe the core principles of the Hakomi Method: including mindfulness\, organicity\, non-violence\, unity and body-mind holism.\nBe able to recognize the link between mindfulness\, organicity\, and non-violence specifically as pathways to increased safety and authenticity within the therapeutic alliance.\nDescribe 2 pathways for increasing trust across social location.\n\nREGISTER HERE \n\nQuestions? View our FAQs. \nThis workshop is open and relevant to both clinicians and the general public. It also serves as an important foundation and pre-requisite for the Hakomi Professional Skills Training starting in September. Hakomi regions outside of California may require a 2-day introductory workshop (or two 1-day workshops) to satisfy the prerequisite for their Comprehensive Training.
URL:https://embodywise.com/program/hakomi-intro-workshop-july-2025/
LOCATION:Online Via Zoom
CATEGORIES:Hakomi
ATTACH;FMTTYPE=image/jpeg:https://embodywise.com/wp-content/uploads/2024/10/Hakomi-Pro-2-Square.jpg
END:VEVENT
END:VCALENDAR