BEGIN:VCALENDAR
VERSION:2.0
PRODID:-//Embodywise - ECPv6.15.20//NONSGML v1.0//EN
CALSCALE:GREGORIAN
METHOD:PUBLISH
X-WR-CALNAME:Embodywise
X-ORIGINAL-URL:https://embodywise.com
X-WR-CALDESC:Events for Embodywise
REFRESH-INTERVAL;VALUE=DURATION:PT1H
X-Robots-Tag:noindex
X-PUBLISHED-TTL:PT1H
BEGIN:VTIMEZONE
TZID:America/Los_Angeles
BEGIN:DAYLIGHT
TZOFFSETFROM:-0800
TZOFFSETTO:-0700
TZNAME:PDT
DTSTART:20250309T100000
END:DAYLIGHT
BEGIN:STANDARD
TZOFFSETFROM:-0700
TZOFFSETTO:-0800
TZNAME:PST
DTSTART:20251102T090000
END:STANDARD
BEGIN:DAYLIGHT
TZOFFSETFROM:-0800
TZOFFSETTO:-0700
TZNAME:PDT
DTSTART:20260308T100000
END:DAYLIGHT
BEGIN:STANDARD
TZOFFSETFROM:-0700
TZOFFSETTO:-0800
TZNAME:PST
DTSTART:20261101T090000
END:STANDARD
BEGIN:DAYLIGHT
TZOFFSETFROM:-0800
TZOFFSETTO:-0700
TZNAME:PDT
DTSTART:20270314T100000
END:DAYLIGHT
BEGIN:STANDARD
TZOFFSETFROM:-0700
TZOFFSETTO:-0800
TZNAME:PST
DTSTART:20271107T090000
END:STANDARD
END:VTIMEZONE
BEGIN:VEVENT
DTSTART;VALUE=DATE:20260213
DTEND;VALUE=DATE:20260627
DTSTAMP:20260423T122022
CREATED:20251226T161220Z
LAST-MODIFIED:20251226T161242Z
UID:10000259-1770940800-1782518399@embodywise.com
SUMMARY:Training: Hakomi-Informed Somatic Coaching
DESCRIPTION:
URL:https://embodywise.com/program/training-hakomi-informed-somatic-coaching-2026/
LOCATION:Online Via Zoom
CATEGORIES:Coaching,Hakomi
ATTACH;FMTTYPE=image/png:https://embodywise.com/wp-content/uploads/2024/10/lulu_69507_psychodynamic_psychoterapy_session_-v_6.1_8648f28c-b4ed-41b2-95dc-e5406159626d.png
END:VEVENT
BEGIN:VEVENT
DTSTART;VALUE=DATE:20260715
DTEND;VALUE=DATE:20260903
DTSTAMP:20260423T122022
CREATED:20250923T213306Z
LAST-MODIFIED:20260309T223656Z
UID:10000249-1784073600-1788393599@embodywise.com
SUMMARY:Training: Foundations of Somatic Coaching
DESCRIPTION:Free Webinar Recording \nBased on ICF Core Competencies and ICF Code of Ethics\, this training\, combined with the Hakomi-Informed Somatic Coaching training\, will provide aspiring coaches with fundamental coaching knowledge\, skills\, and competencies to apply for ICF-Associate Certified Coach (ACC) certification through the Portfolio Path. Participants will understand the requirements of the ICF ACC Portfolio path in order to navigate the process with ease. Mentor coaching hours can be added\, if desired. Rooted in somatics and mindfulness\, lead instructors Ketriellah Goldfeder and Lindsay Leopold will also support participants in working on their identity as a coach and coaching mindset. \nThis training consists of eight live online modules* on Wednesdays\, 12:00pm-3:00pm ET / 9:00am-12:00pm PT: \nJuly 15\, 22\, & 29\nAugust 5\, 12\, 19\, & 26\nSeptember 2 \n*Reading and journal entries will be required for each module. \nIn this program\, we will cover these competence areas:\ncultivating trust and safety\, embodying coaching mindset\, establishing and maintaining agreements\, maintaining presence\, communicating effectively\, evoking awareness\, active listening\, powerful questions\, facilitating client’s growth\, and demonstrating ethical practice. \nIn addition to ICF Code of Ethics\, expert coach Sari Ajanko will also cover Right Use of Power principles within the role and responsibility of a coach. \nThis training will not teach the Hakomi method. The focus is on the knowledge and practice of coaching core competencies as defined by ICF. \nQuestions?\nView our FAQs or sign up to receive program updates. \nRegister \nRegister by May 17th to save $150. \nLimited scholarships are available. \nFree Webinar Recording
URL:https://embodywise.com/program/foundations-of-somatic-coaching/
LOCATION:Online Via Zoom
CATEGORIES:Coaching
ATTACH;FMTTYPE=image/png:https://embodywise.com/wp-content/uploads/2025/06/Ketriellah-and-Lindsay.png
END:VEVENT
END:VCALENDAR