BEGIN:VCALENDAR
VERSION:2.0
PRODID:-//Embodywise - ECPv6.15.20//NONSGML v1.0//EN
CALSCALE:GREGORIAN
METHOD:PUBLISH
X-WR-CALNAME:Embodywise
X-ORIGINAL-URL:https://embodywise.com
X-WR-CALDESC:Events for Embodywise
REFRESH-INTERVAL;VALUE=DURATION:PT1H
X-Robots-Tag:noindex
X-PUBLISHED-TTL:PT1H
BEGIN:VTIMEZONE
TZID:America/Los_Angeles
BEGIN:DAYLIGHT
TZOFFSETFROM:-0800
TZOFFSETTO:-0700
TZNAME:PDT
DTSTART:20240310T100000
END:DAYLIGHT
BEGIN:STANDARD
TZOFFSETFROM:-0700
TZOFFSETTO:-0800
TZNAME:PST
DTSTART:20241103T090000
END:STANDARD
BEGIN:DAYLIGHT
TZOFFSETFROM:-0800
TZOFFSETTO:-0700
TZNAME:PDT
DTSTART:20250309T100000
END:DAYLIGHT
BEGIN:STANDARD
TZOFFSETFROM:-0700
TZOFFSETTO:-0800
TZNAME:PST
DTSTART:20251102T090000
END:STANDARD
BEGIN:DAYLIGHT
TZOFFSETFROM:-0800
TZOFFSETTO:-0700
TZNAME:PDT
DTSTART:20260308T100000
END:DAYLIGHT
BEGIN:STANDARD
TZOFFSETFROM:-0700
TZOFFSETTO:-0800
TZNAME:PST
DTSTART:20261101T090000
END:STANDARD
END:VTIMEZONE
BEGIN:VEVENT
DTSTART;TZID=America/Los_Angeles:20250628T100000
DTEND;TZID=America/Los_Angeles:20250628T163000
DTSTAMP:20260421T010836
CREATED:20250228T055855Z
LAST-MODIFIED:20250701T063858Z
UID:10000117-1751104800-1751128200@embodywise.com
SUMMARY:Hakomi Intro Workshop: The Art of Our Collective Journey from Wounding to Embodied Wholeness
DESCRIPTION:REGISTRATION IS NOW CLOSED \nPlease explore our second introduction to Hakomi workshop coming up in July: A Mindful Path to Indigenous and Global Majority Healing \n\nWe welcome you to this one-day immersive experience where we’ll delve into the principles and practices of Hakomi\, a mindfulness-based\, body-centered therapy.\nIn this workshop\, facilitated by Hakomi Teacher and Therapist\, Brian Lim\, we’ll explore how to access unconscious material compassionately with precision and depth. In addition\, we will also explore how to go beyond past wounds\, cultivating a liberated sense of being – rooted in our fundamental innate wholeness. \nhttps://embodywise.com/wp-content/uploads/2025/05/Intro-to-Hakomi-with-Brian-Lim.mp4\nBrian Lim\, MA\, LMFT is a Certified Hakomi Teacher and Therapist. He holds a master’s degree in Holistic Counseling from JFKU. He supervises MFT associates\, teaches at CIIS\, and is in private practice serving adults and couples. In his work\, he interweaves: Hakomi\, Neuro-affective Touch\, Recreation of the Self (RCS)\, EMDR\, Sensorimotor\, ISITTA\, Somatica (intimacy and sexuality coaching)\, and an Integral cross-cultural lens to meet the complex multifaceted dimensions of our life. \nThrough mindful intention and compassionate presence\, you’ll learn how the body holds emotional truths\, and how to harness this understanding for real nourishment and growth. As we explore our interconnectedness—both within ourselves and with others—you’ll discover how this deep connection can lead to healing\, integration\, and the ongoing development of your authentic self. \nWhether you’re new to Hakomi or would like to review its core concepts\, this workshop offers you the opportunity to explore new insights and deepen your practice\, all while moving toward a more real and interconnected sense of being. Join us on this journey of wholeness and integration\, grounded in our shared humanity. \nThis course consists of two online learning segments: \n\n1.5 hours of self-paced learning (brief video talk\, Hakomi\, demo session\, articles and handouts) that you’ll complete at your own pace in the two-and-a-half weeks prior to our live Zoom class\n4.5 hours (w/ two 15-minute breaks) of online instructor-led classroom training via-Zoom\, with plenty of opportunities of experiential learning\, including breakout groups where you can practice new skills in a gentle and safe environment and receive immediate guidance and feedback from your instructor.\n\nWhat you will learn: \n\n– The five basic principles of Hakomi and how they apply to psychological healing and growth\n– How to include and see past wounding\, cultivating the wholeness that has always been with them.\n– How to shift into loving presence\, allowing your work with your clients to be safer and go deeper\n– Useful ways to increase your ability to track verbal and nonverbal behaviors\n– Hakomi’s unique approach to using mindfulness and the body to transform core wounding \n\nQuestions? View our FAQs. \nREGISTRATION IS NOW CLOSED \n\nThis workshop is open and relevant to both clinicians and the general public. It also serves as an important foundation for the Hakomi Professional Skills Training starting in October. Hakomi regions outside of California may require a 2-day introductory workshop (or two 1-day workshops) to satisfy the prerequisite for their Comprehensive Training.
URL:https://embodywise.com/program/hakomi-intro-workshop-june-2025/
LOCATION:Online Via Zoom
CATEGORIES:Hakomi
ATTACH;FMTTYPE=image/jpeg:https://embodywise.com/wp-content/uploads/2024/10/Hakomi-Pro-2-Square.jpg
END:VEVENT
END:VCALENDAR