BEGIN:VCALENDAR
VERSION:2.0
PRODID:-//Embodywise - ECPv6.15.20//NONSGML v1.0//EN
CALSCALE:GREGORIAN
METHOD:PUBLISH
X-ORIGINAL-URL:https://embodywise.com
X-WR-CALDESC:Events for Embodywise
REFRESH-INTERVAL;VALUE=DURATION:PT1H
X-Robots-Tag:noindex
X-PUBLISHED-TTL:PT1H
BEGIN:VTIMEZONE
TZID:America/Los_Angeles
BEGIN:DAYLIGHT
TZOFFSETFROM:-0800
TZOFFSETTO:-0700
TZNAME:PDT
DTSTART:20230312T100000
END:DAYLIGHT
BEGIN:STANDARD
TZOFFSETFROM:-0700
TZOFFSETTO:-0800
TZNAME:PST
DTSTART:20231105T090000
END:STANDARD
BEGIN:DAYLIGHT
TZOFFSETFROM:-0800
TZOFFSETTO:-0700
TZNAME:PDT
DTSTART:20240310T100000
END:DAYLIGHT
BEGIN:STANDARD
TZOFFSETFROM:-0700
TZOFFSETTO:-0800
TZNAME:PST
DTSTART:20241103T090000
END:STANDARD
BEGIN:DAYLIGHT
TZOFFSETFROM:-0800
TZOFFSETTO:-0700
TZNAME:PDT
DTSTART:20250309T100000
END:DAYLIGHT
BEGIN:STANDARD
TZOFFSETFROM:-0700
TZOFFSETTO:-0800
TZNAME:PST
DTSTART:20251102T090000
END:STANDARD
BEGIN:DAYLIGHT
TZOFFSETFROM:-0800
TZOFFSETTO:-0700
TZNAME:PDT
DTSTART:20260308T100000
END:DAYLIGHT
BEGIN:STANDARD
TZOFFSETFROM:-0700
TZOFFSETTO:-0800
TZNAME:PST
DTSTART:20261101T090000
END:STANDARD
BEGIN:DAYLIGHT
TZOFFSETFROM:-0800
TZOFFSETTO:-0700
TZNAME:PDT
DTSTART:20270314T100000
END:DAYLIGHT
BEGIN:STANDARD
TZOFFSETFROM:-0700
TZOFFSETTO:-0800
TZNAME:PST
DTSTART:20271107T090000
END:STANDARD
END:VTIMEZONE
BEGIN:VEVENT
DTSTART;TZID=America/Los_Angeles:20260224T100000
DTEND;TZID=America/Los_Angeles:20260224T110000
DTSTAMP:20260423T152042
CREATED:20260218T184034Z
LAST-MODIFIED:20260218T184226Z
UID:10000260-1771927200-1771930800@embodywise.com
SUMMARY:Free Webinar: Foundations of Somatic Coaching
DESCRIPTION:Join Ketriellah Goldfeder and Lindsay Leopold to learn more about the upcoming Foundations of Somatic Coaching program. Discover what the training includes\, who it’s designed for\, and how it can support your professional development. There will be time for live Q&A.
URL:https://embodywise.com/program/free-webinar-foundations-of-somatic-coaching/
LOCATION:Online Via Zoom
CATEGORIES:Coaching,Movement
ATTACH;FMTTYPE=image/png:https://embodywise.com/wp-content/uploads/2025/06/Ketriellah-and-Lindsay.png
END:VEVENT
BEGIN:VEVENT
DTSTART;TZID=America/Los_Angeles:20260114T110000
DTEND;TZID=America/Los_Angeles:20260114T120000
DTSTAMP:20260423T152042
CREATED:20251212T210139Z
LAST-MODIFIED:20251212T210139Z
UID:10000258-1768388400-1768392000@embodywise.com
SUMMARY:Free Webinar: Trauma-Informed Mental Health Coaching
DESCRIPTION:
URL:https://embodywise.com/program/free-webinar-trauma-informed-mental-health-coaching/
LOCATION:Online Via Zoom
CATEGORIES:Coaching
ATTACH;FMTTYPE=image/png:https://embodywise.com/wp-content/uploads/2025/12/MMR-and-LL.png
END:VEVENT
BEGIN:VEVENT
DTSTART;TZID=America/Los_Angeles:20251119T090000
DTEND;TZID=America/Los_Angeles:20251119T100000
DTSTAMP:20260423T152042
CREATED:20251001T202551Z
LAST-MODIFIED:20251115T003202Z
UID:10000252-1763542800-1763546400@embodywise.com
SUMMARY:Free Webinar: Intro to Hakomi-Informed Coaching
DESCRIPTION:Hakomi-Informed Somatic Coaching Program (HiSC) is a professional program that integrates core Hakomi methodology into a coaching framework. \nThis free one-hour webinar with Manuela Mischke-Reeds and Ketriellah Goldfeders will include a special demo and provide an introduction to developing mindful and somatic awareness practices to deepen the client’s personal process. Details will also be provided on the 40-hour ICF-accredited training starting in March 2026 – explore the training. \nA recording of the webinar will be provided to everyone that signs up. \n﻿
URL:https://embodywise.com/program/hakomi-informed-coaching-intro-webinar-2026/
LOCATION:Online Via Zoom
CATEGORIES:Coaching,Hakomi
ATTACH;FMTTYPE=image/jpeg:https://embodywise.com/wp-content/uploads/2024/11/coaching-square.jpg
END:VEVENT
BEGIN:VEVENT
DTSTART;TZID=America/Los_Angeles:20250723T090000
DTEND;TZID=America/Los_Angeles:20250723T100000
DTSTAMP:20260423T152042
CREATED:20250627T202155Z
LAST-MODIFIED:20250902T062830Z
UID:10000247-1753261200-1753264800@embodywise.com
SUMMARY:Free Webinar: Somatic Coach Practicum
DESCRIPTION:Prerequisite\nThis webinar is restricted to students with Hakomi experience. Students must have either completed Level 1 of Comprehensive or Professional Skills\, or the Hakomi-Informed Somatic Coaching program. \nKetriellah Goldfeder and Sari Ajanko will provide an overview of a new training being offered this fall – the Somatic Coach Practicum. \nBased on ICF Core Competencies and ICF Code of Ethics\, the Somatic Coach Practicum\, combined with the Hakomi-Informing Somatic Coaching training\, will provide aspiring coaches with fundamental coaching knowledge\, skills\, and competencies to achieve ICF-certification as an Associate Certified Coach (ACC). Rooted in somatics and mindfulness\, the training will also support participants in working on their identity as a coach and coaching mindset. \nLearn more about the Somatic Coach Practicum. \nAll webinar registrations will receive the recording.
URL:https://embodywise.com/program/somatic-coach-practicum-webinar/
LOCATION:Online Via Zoom
CATEGORIES:Coaching
ATTACH;FMTTYPE=image/jpeg:https://embodywise.com/wp-content/uploads/2025/06/Coach-Practicum.jpg
END:VEVENT
BEGIN:VEVENT
DTSTART;TZID=America/Los_Angeles:20250205T090000
DTEND;TZID=America/Los_Angeles:20250205T100000
DTSTAMP:20260423T152042
CREATED:20250116T235800Z
LAST-MODIFIED:20250305T185642Z
UID:10000107-1738746000-1738749600@embodywise.com
SUMMARY:Hakomi Informed Coaching Intro Webinar - Embodywise
DESCRIPTION:Hakomi-Informed Somatic Coaching Program (HiSC) is a professional program that integrates core Hakomi methodology into a coaching framework. \nThis free one-hour webinar\, which includes a special demo\, will provide an introduction to developing mindful and somatic awareness practices to deepen the client’s personal process. Details will also be provided on the 40-hour ICF-accredited training starting in March 2025 – explore the training. \nRegister
URL:https://embodywise.com/program/intro-to-hakomi-informed-coaching-webinar/
LOCATION:Online Via Zoom
CATEGORIES:Coaching
ATTACH;FMTTYPE=image/jpeg:https://embodywise.com/wp-content/uploads/2024/11/coaching-square.jpg
END:VEVENT
BEGIN:VEVENT
DTSTART;TZID=America/Los_Angeles:20241211T110000
DTEND;TZID=America/Los_Angeles:20241211T120000
DTSTAMP:20260423T152042
CREATED:20241114T035348Z
LAST-MODIFIED:20250407T081541Z
UID:10000102-1733914800-1733918400@embodywise.com
SUMMARY:Intro to Hakomi-Informed Coaching Webinar
DESCRIPTION:Hakomi-Informed Somatic Coaching Program (HiSC) is a professional program that integrates core Hakomi methodology into a coaching framework. \nThis free one-hour webinar will provide an introduction to developing mindful and somatic awareness practices to deepen the client’s personal process. Details will also be provided on the 40-hour ICF-accredited training starting in March 2025 – explore the training. \nRegister
URL:https://embodywise.com/program/coaching-webinar/
LOCATION:Online Via Zoom
CATEGORIES:Coaching
ATTACH;FMTTYPE=image/jpeg:https://embodywise.com/wp-content/uploads/2024/11/coaching-square.jpg
END:VEVENT
END:VCALENDAR